BEGIN:VCALENDAR
VERSION:2.0
PRODID:-//Early Learning Coalition of Northwest Florida - ECPv6.15.20//NONSGML v1.0//EN
CALSCALE:GREGORIAN
METHOD:PUBLISH
X-ORIGINAL-URL:https://elcnwf.org
X-WR-CALDESC:Events for Early Learning Coalition of Northwest Florida
REFRESH-INTERVAL;VALUE=DURATION:PT1H
X-Robots-Tag:noindex
X-PUBLISHED-TTL:PT1H
BEGIN:VTIMEZONE
TZID:America/Chicago
BEGIN:DAYLIGHT
TZOFFSETFROM:-0600
TZOFFSETTO:-0500
TZNAME:CDT
DTSTART:20210314T080000
END:DAYLIGHT
BEGIN:STANDARD
TZOFFSETFROM:-0500
TZOFFSETTO:-0600
TZNAME:CST
DTSTART:20211107T070000
END:STANDARD
BEGIN:DAYLIGHT
TZOFFSETFROM:-0600
TZOFFSETTO:-0500
TZNAME:CDT
DTSTART:20220313T080000
END:DAYLIGHT
BEGIN:STANDARD
TZOFFSETFROM:-0500
TZOFFSETTO:-0600
TZNAME:CST
DTSTART:20221106T070000
END:STANDARD
BEGIN:DAYLIGHT
TZOFFSETFROM:-0600
TZOFFSETTO:-0500
TZNAME:CDT
DTSTART:20230312T080000
END:DAYLIGHT
BEGIN:STANDARD
TZOFFSETFROM:-0500
TZOFFSETTO:-0600
TZNAME:CST
DTSTART:20231105T070000
END:STANDARD
END:VTIMEZONE
BEGIN:VEVENT
DTSTART;TZID=America/Chicago:20220519T093000
DTEND;TZID=America/Chicago:20220519T113000
DTSTAMP:20260421T105449
CREATED:20220504T135306Z
LAST-MODIFIED:20220504T135309Z
UID:4185-1652952600-1652959800@elcnwf.org
SUMMARY:Stories & Screenings by Help Me Grow
DESCRIPTION:An event for families with children ages birth to 5. Includes storytime and developmental information for you and your child! \n\n\n\n \n\n\n\nJackson County Public Library2929 Green St\, Marianna\, FL 32446 \n\n\n\n \n\n\n\nStarts at 9:30AM (CST) \n\n\n\n \n\n\n\nOnly 25 spots available for each age group.(Ages Birth to 2) (Ages 3-5) \n\n\n\n \n\n\n\nTo register\, complete an online Ages and Stages questionnaire. https://www.asqonline.com/family/cb450c \n\n\n\nA Help Me Grow specialist will contact you to discuss the screening results\, and provide details for attending the event. 
URL:https://elcnwf.org/event/stories-screenings-by-help-me-grow/
LOCATION:Jackson County Public Library\, 2929 Green St\, Marianna\, Florida\, 32446\, United States
CATEGORIES:Community Event
END:VEVENT
BEGIN:VEVENT
DTSTART;TZID=America/Chicago:20220530T000000
DTEND;TZID=America/Chicago:20220530T235959
DTSTAMP:20260421T105449
CREATED:20220408T135956Z
LAST-MODIFIED:20220408T135959Z
UID:4152-1653868800-1653955199@elcnwf.org
SUMMARY:Memorial Day - ELCNWF Offices Closed
DESCRIPTION:
URL:https://elcnwf.org/event/memorial-day-elcnwf-offices-closed/
LOCATION:Florida
END:VEVENT
END:VCALENDAR