BEGIN:VCALENDAR
VERSION:2.0
PRODID:-//Early Learning Coalition of Northwest Florida - ECPv6.15.20//NONSGML v1.0//EN
CALSCALE:GREGORIAN
METHOD:PUBLISH
X-WR-CALNAME:Early Learning Coalition of Northwest Florida
X-ORIGINAL-URL:https://elcnwf.org
X-WR-CALDESC:Events for Early Learning Coalition of Northwest Florida
REFRESH-INTERVAL;VALUE=DURATION:PT1H
X-Robots-Tag:noindex
X-PUBLISHED-TTL:PT1H
BEGIN:VTIMEZONE
TZID:America/Chicago
BEGIN:DAYLIGHT
TZOFFSETFROM:-0600
TZOFFSETTO:-0500
TZNAME:CDT
DTSTART:20210314T080000
END:DAYLIGHT
BEGIN:STANDARD
TZOFFSETFROM:-0500
TZOFFSETTO:-0600
TZNAME:CST
DTSTART:20211107T070000
END:STANDARD
BEGIN:DAYLIGHT
TZOFFSETFROM:-0600
TZOFFSETTO:-0500
TZNAME:CDT
DTSTART:20220313T080000
END:DAYLIGHT
BEGIN:STANDARD
TZOFFSETFROM:-0500
TZOFFSETTO:-0600
TZNAME:CST
DTSTART:20221106T070000
END:STANDARD
BEGIN:DAYLIGHT
TZOFFSETFROM:-0600
TZOFFSETTO:-0500
TZNAME:CDT
DTSTART:20230312T080000
END:DAYLIGHT
BEGIN:STANDARD
TZOFFSETFROM:-0500
TZOFFSETTO:-0600
TZNAME:CST
DTSTART:20231105T070000
END:STANDARD
END:VTIMEZONE
BEGIN:VEVENT
DTSTART;TZID=America/Chicago:20220217T090000
DTEND;TZID=America/Chicago:20220217T130000
DTSTAMP:20260421T154204
CREATED:20220113T193400Z
LAST-MODIFIED:20220113T194808Z
UID:3929-1645088400-1645102800@elcnwf.org
SUMMARY:Lynn Haven Health Fair
DESCRIPTION:3rd Annual Health Fair
URL:https://elcnwf.org/event/lynn-haven-health-fair/
LOCATION:City of Lynn Haven Senior Activity Club\, 905 Pennsylvania Avenue\, Lynn Haven\, FL\, 32444\, United States
CATEGORIES:Community Event
END:VEVENT
END:VCALENDAR