BEGIN:VCALENDAR
VERSION:2.0
PRODID:-//Early Learning Coalition of Northwest Florida - ECPv6.15.20//NONSGML v1.0//EN
CALSCALE:GREGORIAN
METHOD:PUBLISH
X-WR-CALNAME:Early Learning Coalition of Northwest Florida
X-ORIGINAL-URL:https://elcnwf.org
X-WR-CALDESC:Events for Early Learning Coalition of Northwest Florida
REFRESH-INTERVAL;VALUE=DURATION:PT1H
X-Robots-Tag:noindex
X-PUBLISHED-TTL:PT1H
BEGIN:VTIMEZONE
TZID:America/Chicago
BEGIN:DAYLIGHT
TZOFFSETFROM:-0600
TZOFFSETTO:-0500
TZNAME:CDT
DTSTART:20250309T080000
END:DAYLIGHT
BEGIN:STANDARD
TZOFFSETFROM:-0500
TZOFFSETTO:-0600
TZNAME:CST
DTSTART:20251102T070000
END:STANDARD
BEGIN:DAYLIGHT
TZOFFSETFROM:-0600
TZOFFSETTO:-0500
TZNAME:CDT
DTSTART:20260308T080000
END:DAYLIGHT
BEGIN:STANDARD
TZOFFSETFROM:-0500
TZOFFSETTO:-0600
TZNAME:CST
DTSTART:20261101T070000
END:STANDARD
BEGIN:DAYLIGHT
TZOFFSETFROM:-0600
TZOFFSETTO:-0500
TZNAME:CDT
DTSTART:20270314T080000
END:DAYLIGHT
BEGIN:STANDARD
TZOFFSETFROM:-0500
TZOFFSETTO:-0600
TZNAME:CST
DTSTART:20271107T070000
END:STANDARD
END:VTIMEZONE
BEGIN:VEVENT
DTSTART;TZID=America/Chicago:20260207T103000
DTEND;TZID=America/Chicago:20260207T140000
DTSTAMP:20260422T060105
CREATED:20251229T153034Z
LAST-MODIFIED:20251229T153748Z
UID:6184-1770460200-1770472800@elcnwf.org
SUMMARY:ArtKidDoo
DESCRIPTION:ArtKidDoo\, our free\, family centered celebration of creativity and early learning returns on February 7\, 2026! This community event invites young children and their caregivers to explore art\, play\, and learning together in a welcoming and inclusive environment. \n\n\n\nFamilies can enjoy interactive art stations\, messy play\, and hands-on experiences designed to support fine motor development\, problem-solving\, and self-expression through creativity and exploration. Caregivers actively participate alongside their children\, strengthening connection and reinforcing learning through shared experiences. \n\n\n\nNew this year\, ArtKidDoo kicks off at 10:30 a.m. with a Bubble Run\, adding an energetic\, movement-based activity to start the day and spark excitement before diving into a full schedule of creative fun. For more info: https://tinyurl.com/3nm7tfu8 \n\n\n\nFor more info\, contact Daryan Tennant at daryan.tennant@elcnwf.org
URL:https://elcnwf.org/event/artkiddoo/
LOCATION:Shivers Park – Chipley\, FL\, 784 5th Street\, Chipley\, Florida\, 32428\, United States
CATEGORIES:Community Event
ATTACH;FMTTYPE=image/png:https://elcnwf.org/wp-content/uploads/2025/12/ArtKidDoo-2026-Facebook-Event-Header-1-1-e1767022596165.png
END:VEVENT
BEGIN:VEVENT
DTSTART;TZID=America/Chicago:20260209T120000
DTEND;TZID=America/Chicago:20260209T130000
DTSTAMP:20260422T060105
CREATED:20260129T162047Z
LAST-MODIFIED:20260129T162048Z
UID:6249-1770638400-1770642000@elcnwf.org
SUMMARY:VPK Virtual Chat
DESCRIPTION:Providers\, join us for a lunchtime VPK virtual chat as we discuss effective messaging and gather your input. Attendees will receive a customizable VPK marketing toolkit for their center. The chat will take place on Monday\, February 9 at 12 p.m. \n\n\n\nMeeting link: https://teams.microsoft.com/meet/29994972644816?p=Ssc4qXoBy3TLyFedEm
URL:https://elcnwf.org/event/vpk-virtual-chat/
CATEGORIES:Meetings
ATTACH;FMTTYPE=image/png:https://elcnwf.org/wp-content/uploads/2021/12/Slider-VPK.png
END:VEVENT
BEGIN:VEVENT
DTSTART;TZID=America/Chicago:20260415T103000
DTEND;TZID=America/Chicago:20260415T113000
DTSTAMP:20260422T060105
CREATED:20260410T152448Z
LAST-MODIFIED:20260410T154227Z
UID:6340-1776249000-1776252600@elcnwf.org
SUMMARY:Kaleidoscope Play and Learn
DESCRIPTION:Kaleidoscope Play & Learn is ELCNWF’s FREE play group for children ages 0–5 and their caregivers — where little learners explore\, create\, and discover through themed activities\, hands-on sensory play\, and playful experiences that build school readiness skills. 🌈✨ \n\n\n\nCome ready to play\, connect\, and make memories together!
URL:https://elcnwf.org/event/kaleidoscope-play-and-learn-8/
LOCATION:Martin Luther King Jr. Rec Center\, 705 E 14th Ct\, Panama City\, Florida\, 32401
CATEGORIES:Community Event
ATTACH;FMTTYPE=image/png:https://elcnwf.org/wp-content/uploads/2026/04/KPL-Facebook-Event-Cover-3.png
END:VEVENT
BEGIN:VEVENT
DTSTART;TZID=America/Chicago:20260422T103000
DTEND;TZID=America/Chicago:20260422T113000
DTSTAMP:20260422T060105
CREATED:20260410T153509Z
LAST-MODIFIED:20260410T154134Z
UID:6347-1776853800-1776857400@elcnwf.org
SUMMARY:Kaleidoscope Play and Learn
DESCRIPTION:Kaleidoscope Play & Learn is ELCNWF’s FREE play group for children ages 0–5 and their caregivers — where little learners explore\, create\, and discover through themed activities\, hands-on sensory play\, and playful experiences that build school readiness skills. 🌈✨ \n\n\n\nCome ready to play\, connect\, and make memories together!
URL:https://elcnwf.org/event/kaleidoscope-play-and-learn-9/
LOCATION:Martin Luther King Jr. Rec Center\, 705 E 14th Ct\, Panama City\, Florida\, 32401
CATEGORIES:Community Event
ATTACH;FMTTYPE=image/png:https://elcnwf.org/wp-content/uploads/2026/04/KPL-Facebook-Event-Cover-3.png
END:VEVENT
BEGIN:VEVENT
DTSTART;TZID=America/Chicago:20260429T103000
DTEND;TZID=America/Chicago:20260429T113000
DTSTAMP:20260422T060105
CREATED:20260410T153943Z
LAST-MODIFIED:20260410T154058Z
UID:6349-1777458600-1777462200@elcnwf.org
SUMMARY:Kaleidoscope Play and Learn
DESCRIPTION:Kaleidoscope Play & Learn is ELCNWF’s FREE play group for children ages 0–5 and their caregivers — where little learners explore\, create\, and discover through themed activities\, hands-on sensory play\, and playful experiences that build school readiness skills. 🌈✨ \n\n\n\nCome ready to play\, connect\, and make memories together!
URL:https://elcnwf.org/event/kaleidoscope-play-and-learn-10/
LOCATION:Martin Luther King Jr. Rec Center\, 705 E 14th Ct\, Panama City\, Florida\, 32401
CATEGORIES:Community Event
ATTACH;FMTTYPE=image/png:https://elcnwf.org/wp-content/uploads/2026/04/KPL-Facebook-Event-Cover-3.png
END:VEVENT
BEGIN:VEVENT
DTSTART;TZID=America/Chicago:20260506T103000
DTEND;TZID=America/Chicago:20260506T113000
DTSTAMP:20260422T060105
CREATED:20260410T154806Z
LAST-MODIFIED:20260410T154807Z
UID:6357-1778063400-1778067000@elcnwf.org
SUMMARY:Kaleidoscope Play and Learn
DESCRIPTION:Kaleidoscope Play & Learn is ELCNWF’s FREE play group for children ages 0–5 and their caregivers — where little learners explore\, create\, and discover through themed activities\, hands-on sensory play\, and playful experiences that build school readiness skills. 🌈✨ \n\n\n\nCome ready to play\, connect\, and make memories together!
URL:https://elcnwf.org/event/kaleidoscope-play-and-learn-11/
LOCATION:Martin Luther King Jr. Rec Center\, 705 E 14th Ct\, Panama City\, Florida\, 32401
CATEGORIES:Community Event
ATTACH;FMTTYPE=image/png:https://elcnwf.org/wp-content/uploads/2026/04/KPL-Facebook-Event-Cover-3.png
END:VEVENT
BEGIN:VEVENT
DTSTART;TZID=America/Chicago:20260507T100000
DTEND;TZID=America/Chicago:20260507T120000
DTSTAMP:20260422T060105
CREATED:20260410T164145Z
LAST-MODIFIED:20260410T164146Z
UID:6364-1778148000-1778155200@elcnwf.org
SUMMARY:Books\, Balls\, & Blocks
DESCRIPTION:Wondering how your little one is growing and learning? Free developmental and behavioral screenings are available! These checkups look at important skills like talking\, problem-solving\, social interaction\, and how your child moves and uses their hands. It’s a simple way to support your child’s healthy development. All families with children ages birth to 8 are welcome. \n\n\n\nPlay\, learn\, and take home free resources & giveaways!
URL:https://elcnwf.org/event/books-balls-blocks-4/
LOCATION:Sam Mitchell Public Library\, 3731 Roche Avenue\, Vernon\, FL 32462\, Vernon\, Florida\, 32462
CATEGORIES:Community Event
ATTACH;FMTTYPE=image/png:https://elcnwf.org/wp-content/uploads/2026/04/BBB-Vernon.png
END:VEVENT
BEGIN:VEVENT
DTSTART;TZID=America/Chicago:20260513T103000
DTEND;TZID=America/Chicago:20260513T113000
DTSTAMP:20260422T060105
CREATED:20260410T155051Z
LAST-MODIFIED:20260410T155052Z
UID:6360-1778668200-1778671800@elcnwf.org
SUMMARY:Kaleidoscope Play and Learn
DESCRIPTION:Kaleidoscope Play & Learn is ELCNWF’s FREE play group for children ages 0–5 and their caregivers — where little learners explore\, create\, and discover through themed activities\, hands-on sensory play\, and playful experiences that build school readiness skills. 🌈✨ \n\n\n\nCome ready to play\, connect\, and make memories together!
URL:https://elcnwf.org/event/kaleidoscope-play-and-learn-12/
LOCATION:Martin Luther King Jr. Rec Center\, 705 E 14th Ct\, Panama City\, Florida\, 32401
CATEGORIES:Community Event
ATTACH;FMTTYPE=image/png:https://elcnwf.org/wp-content/uploads/2026/04/KPL-Facebook-Event-Cover-3.png
END:VEVENT
BEGIN:VEVENT
DTSTART;TZID=America/Chicago:20260520T103000
DTEND;TZID=America/Chicago:20260520T113000
DTSTAMP:20260422T060105
CREATED:20260410T155423Z
LAST-MODIFIED:20260410T155424Z
UID:6362-1779273000-1779276600@elcnwf.org
SUMMARY:Kaleidoscope Play and Learn
DESCRIPTION:Kaleidoscope Play & Learn is ELCNWF’s FREE play group for children ages 0–5 and their caregivers — where little learners explore\, create\, and discover through themed activities\, hands-on sensory play\, and playful experiences that build school readiness skills. 🌈✨ \n\n\n\nCome ready to play\, connect\, and make memories together!
URL:https://elcnwf.org/event/kaleidoscope-play-and-learn-13/
LOCATION:Martin Luther King Jr. Rec Center\, 705 E 14th Ct\, Panama City\, Florida\, 32401
CATEGORIES:Community Event
ATTACH;FMTTYPE=image/png:https://elcnwf.org/wp-content/uploads/2026/04/KPL-Facebook-Event-Cover-3.png
END:VEVENT
BEGIN:VEVENT
DTSTART;TZID=America/Chicago:20260527T103000
DTEND;TZID=America/Chicago:20260527T113000
DTSTAMP:20260422T060105
CREATED:20260410T165621Z
LAST-MODIFIED:20260410T165622Z
UID:6374-1779877800-1779881400@elcnwf.org
SUMMARY:Kaleidoscope Play & Learn
DESCRIPTION:Kaleidoscope Play & Learn is ELCNWF’s FREE play group for children ages 0–5 and their caregivers — where little learners explore\, create\, and discover through themed activities\, hands-on sensory play\, and playful experiences that build school readiness skills. 🌈✨ \n\n\n\nCome ready to play\, connect\, and make memories together!
URL:https://elcnwf.org/event/kaleidoscope-play-learn/
LOCATION:Martin Luther King Jr. Rec Center\, 705 E 14th Ct\, Panama City\, Florida\, 32401
CATEGORIES:Community Event
ATTACH;FMTTYPE=image/png:https://elcnwf.org/wp-content/uploads/2026/04/KPL-Facebook-Event-Cover-3.png
END:VEVENT
BEGIN:VEVENT
DTSTART;TZID=America/Chicago:20260603T103000
DTEND;TZID=America/Chicago:20260603T113000
DTSTAMP:20260422T060105
CREATED:20260410T165857Z
LAST-MODIFIED:20260410T165858Z
UID:6376-1780482600-1780486200@elcnwf.org
SUMMARY:Kaleidoscope Play & Learn
DESCRIPTION:Kaleidoscope Play & Learn is ELCNWF’s FREE play group for children ages 0–5 and their caregivers — where little learners explore\, create\, and discover through themed activities\, hands-on sensory play\, and playful experiences that build school readiness skills. 🌈✨ \n\n\n\nCome ready to play\, connect\, and make memories together!
URL:https://elcnwf.org/event/kaleidoscope-play-learn-2/
LOCATION:Martin Luther King Jr. Rec Center\, 705 E 14th Ct\, Panama City\, Florida\, 32401
CATEGORIES:Community Event
ATTACH;FMTTYPE=image/png:https://elcnwf.org/wp-content/uploads/2026/04/KPL-Facebook-Event-Cover-3.png
END:VEVENT
BEGIN:VEVENT
DTSTART;TZID=America/Chicago:20260610T103000
DTEND;TZID=America/Chicago:20260610T113000
DTSTAMP:20260422T060105
CREATED:20260410T170158Z
LAST-MODIFIED:20260410T181959Z
UID:6378-1781087400-1781091000@elcnwf.org
SUMMARY:Kaleidoscope Play & Learn
DESCRIPTION:Kaleidoscope Play & Learn is ELCNWF’s FREE play group for children ages 0–5 and their caregivers — where little learners explore\, create\, and discover through themed activities\, hands-on sensory play\, and playful experiences that build school readiness skills. 🌈✨ \n\n\n\nCome ready to play\, connect\, and make memories together!
URL:https://elcnwf.org/event/kaleidoscope-play-learn-3/
LOCATION:Martin Luther King Jr. Rec Center\, 705 E 14th Ct\, Panama City\, Florida\, 32401
CATEGORIES:Community Event
ATTACH;FMTTYPE=image/png:https://elcnwf.org/wp-content/uploads/2026/04/KPL-Facebook-Event-Cover-3.png
END:VEVENT
BEGIN:VEVENT
DTSTART;TZID=America/Chicago:20260611T110000
DTEND;TZID=America/Chicago:20260611T130000
DTSTAMP:20260422T060105
CREATED:20260410T183052Z
LAST-MODIFIED:20260410T183053Z
UID:6369-1781175600-1781182800@elcnwf.org
SUMMARY:Books\, Balls\, & Blocks
DESCRIPTION:Wondering how your little one is growing and learning? Free developmental and behavioral screenings are available! These checkups look at important skills like talking\, problem-solving\, social interaction\, and how your child moves and uses their hands. It’s a simple way to support your child’s healthy development. All families with children ages birth to 8 are welcome.
URL:https://elcnwf.org/event/books-balls-blocks-5/
LOCATION:Corinne Costin Gibson Memorial Public Library\, 110 Library Drive\, Port St. Joe\, Florida\, 32456
CATEGORIES:Community Event
ATTACH;FMTTYPE=image/png:https://elcnwf.org/wp-content/uploads/2026/04/BBB-PSJ.png
END:VEVENT
BEGIN:VEVENT
DTSTART;TZID=America/Chicago:20260617T103000
DTEND;TZID=America/Chicago:20260617T113000
DTSTAMP:20260422T060105
CREATED:20260410T182307Z
LAST-MODIFIED:20260410T182308Z
UID:6381-1781692200-1781695800@elcnwf.org
SUMMARY:Kaleidoscope Play and Learn
DESCRIPTION:Kaleidoscope Play & Learn is ELCNWF’s FREE play group for children ages 0–5 and their caregivers — where little learners explore\, create\, and discover through themed activities\, hands-on sensory play\, and playful experiences that build school readiness skills. 🌈✨ \n\n\n\nCome ready to play\, connect\, and make memories together!
URL:https://elcnwf.org/event/kaleidoscope-play-and-learn-14/
LOCATION:Martin Luther King Jr. Rec Center\, 705 E 14th Ct\, Panama City\, Florida\, 32401
CATEGORIES:Community Event
ATTACH;FMTTYPE=image/png:https://elcnwf.org/wp-content/uploads/2026/04/KPL-Facebook-Event-Cover-3.png
END:VEVENT
BEGIN:VEVENT
DTSTART;TZID=America/Chicago:20260624T103000
DTEND;TZID=America/Chicago:20260624T113000
DTSTAMP:20260422T060105
CREATED:20260410T182545Z
LAST-MODIFIED:20260410T182546Z
UID:6383-1782297000-1782300600@elcnwf.org
SUMMARY:Kaleidoscope Play and Learn
DESCRIPTION:Kaleidoscope Play & Learn is ELCNWF’s FREE play group for children ages 0–5 and their caregivers — where little learners explore\, create\, and discover through themed activities\, hands-on sensory play\, and playful experiences that build school readiness skills. 🌈✨ \n\n\n\nCome ready to play\, connect\, and make memories together!
URL:https://elcnwf.org/event/kaleidoscope-play-and-learn-15/
LOCATION:Martin Luther King Jr. Rec Center\, 705 E 14th Ct\, Panama City\, Florida\, 32401
CATEGORIES:Community Event
ATTACH;FMTTYPE=image/png:https://elcnwf.org/wp-content/uploads/2026/04/KPL-Facebook-Event-Cover-3.png
END:VEVENT
END:VCALENDAR